Workbook

Sheet Kwestionariusz
D1: Kwestionariusz rejestracyjny Dostawcy
A2: Lp. | B2: Kategoria | C2: Etykieta | D2: Pytania | E2: Odpowiedzi | F2: 1 - obowiązkowe 2 - nieobowiązkowe
A3: Informacje o firmie
A4: 1 | B4: Firma i kontakt | C4: Informacje o Firmie | D4: Firma | F4: 1
A5: 2 | C5: Informacje o Firmie | D5: Adres | F5: 1
A6: 3 | C6: Informacje o Firmie | D6: Miasto | F6: 1
A7: 4 | C7: Informacje o Firmie | D7: Kod pocztowy | F7: 1
A8: 5 | C8: Informacje o Firmie | D8: Państwo | F8: 1
A9: 6 | C9: Informacje o Firmie | D9: NIP | F9: 1
A10: 7 | C10: Informacje o Firmie | D10: Strona internetowa | F10: 2
A11: 8 | C11: Informacje o Firmie | D11: Numer KRS | F11: 2
A12: Kontakt
A13: 9 | B13: Firma i kontakt | C13: Kontakt | D13: Imię | F13: 1
A14: 10 | C14: Kontakt | D14: Nazwisko | F14: 1
A15: 11 | C15: Kontakt | D15: E-mail | F15: 1
A16: 12 | C16: Kontakt | D16: Telefon | F16: 1
A17: 13 | C17: Kontakt | D17: Stanowisko | F17: 1
A18: Kontakt 2 - alternatywny
A19: 14 | B19: Firma i kontakt | C19: Kontakt | D19: Imię | F19: 1
A20: 15 | C20: Kontakt | D20: Nazwisko | F20: 1
A21: 16 | C21: Kontakt | D21: E-mail | F21: 1
A22: 17 | C22: Kontakt | D22: Telefon | F22: 1
A23: 18 | C23: Kontakt | D23: Stanowisko | F23: 1
A24: Informacje szczegółowe
A25: 19 | B25: Szczegółowe Informacje | C25: Informacje szczegółowe | D25: Rok założenia | F25: 2
A26: 20 | C26: Informacje szczegółowe | D26: Liczba pracowników ogółem | F26: 2
A27: 21 | C27: Informacje szczegółowe | D27: Czy firma współpracuje lub współpracowała z Grupą PZU? | F27: 1
A28: 22 | C28: Informacje szczegółowe | D28: Przychód - ostatni rok (2025) | F28: 1
A29: 23 | C29: Informacje szczegółowe | D29: Przychód - przedostatni rok (2024) | F29: 1
A30: Oświadczenie
A31: 24 | B31: Informacje dodatkowe | D31: Czy podmiot akceptuje wprowadzenie do potencjalnych umów pomiędzy stronami klauzul antykorupcyjnych? | F31: 2
A32: 25 | D32: Czy podmiot zalega z płatnością podatków, opłat i składek na ubezpieczenie społeczne? | F32: 1
A33: 26 | D33: Czy podmiot jest w trakcie likwidacji lub postępowania upadłościowego, czy ogłoszono upadłość, czy złożono oświadczenia o wszczęciu postepowania naprawczego? Czy w chwili obecnej zachodzą przesłanki do wszczęcia wymienionych postepowań? | F33: 1
A34: 27 | D34: Czy osoby reprezentujące podmiot skazano prawomocnie za przestępstwo popełnione w związku z postepowaniem o udzielenie zamówienia publicznego, przestępstwo przekupstwa, przestępstwo przeciwko obrotowi gospodarczemu, przestępstwo przeciwko wiarygodności dokumentów lub inne przestępstwo popełnione w celu osiągnięcia korzyści majątkowych oraz nie wszczęto postępowania sądowego o popełnienie ww. przestępstw? | F34: 1
A35: 28 | D35: Czy wobec podmiotu orzeczono, na podstawie przepisów o odpowiedzialności podmiotów zbiorowych za czyny zabronione pod groźbą kary, zakaz ubiegania się o zamówienia publiczne? | F35: 1
A36: 29 | D36: Czy osoby reprezentujące podmiot lub beneficjent rzeczywisty pełni lub pełnił funkcję publiczną lub posiada powiązania organizacyjne lub kapitałowe z osobami pełniącymi funkcje publiczne? | F36: 1
A37: 30 | D37: Czy podmiot oraz podmioty z nim powiązane wykonują czynności brokerskie w zakresie ubezpieczeń lub reasekuracji? Ustawa z dnia 23 marca 2022 r o dystrybucji ubezpieczeń (Dz.U.2022. poz.905 z późn. zm.) | F37: 1
A38: 31 | D38: Czy podmiot jest objęty sankcjami oraz osoby reprezentujące lub mające pełnomocnictwo do reprezentowania spółki/przedsiębiorstwa również są objęte sankcjami*? (*)Sankcje - znane spółce, i obowiązujące ją ograniczenia nakładane przez upoważnione organy, w szczególności z inicjatywy Unii Europejskiej, Organizacji Narodów Zjednoczonych lub innych organów społeczności międzynarodowej, Stanów Zjednoczonych Ameryki Północnej lub Wielkiej Brytanii, w tym: a) finansowe lub ekonomiczne restrykcje w stosunku do określonych państw lub obywateli tych państw (embargo); b) środki ograniczające wobec osób, podmiotów, grup zorganizowanych, reżimów, rządów, państw (sankcje sensu stricto); | F38: 1
A39: 32 | D39: Zapoznałem się i akceptuję Kodeks Postępowania i Dobrych Praktyk ESG Dostawców Grupy PZU (*). (*) https://www.pzu.pl/grupa-pzu/o-nas/kultura-compliance-pzu/kodeks-csr | F39: 1
A40: Kategorie zakupowe - proszę o wskazanie kategorii zakupowych, w których świadczycie Państwo usługi
B45: Inne | D45: Proszę podać inne obszary działalności
A46: RODO
B47: Administratorami danych osobowych są Spółki PZU SA, PZU Życie SA, PZU CO SA. Kontakt z administratorami jest możliwy za pośrednictwem adresu e-mail dostawcy@pzu.pl lub pisemnie na niżej wskazane adresy siedzib administratorów. We wszystkich sprawach z zakresu ochrony danych osobowych może Pani/Pan kontaktować się z wyznaczonymi przez administratorów Inspektorami Ochrony Danych. Taki kontakt może się odbyć drogą elektroniczną na adresy e-mail lub pisemnie na adresy korespondencyjne wskazane poniżej. Dane osobowe przetwarzane są w celu udziału w procesach organizowanych przez Biuro Zakupów w Spółkach PZU SA, PZU Życie SA, PZU CO SA. Przysługuje Państwu prawo dostępu do treści swoich danych i ich poprawiania. [Administratorzy i dane kontaktowe administratorów i Inspektorów Ochrony Danych] PZU SA administrator: PZU SA, Rondo Ignacego Daszyńskiego 4, 00-843 Warszawa IOD: PZU SA, IOD, Rondo Ignacego Daszyńskiego 4, 00-843 Warszawa; e-mail: IODpzu@pzu.pl PZU Życie SA administrator: PZU Życie SA, Rondo Ignacego Daszyńskiego 4, 00-843 Warszawa IOD: PZU Życie SA, IOD, Rondo Ignacego Daszyńskiego 4, 00-843 Warszawa; e-mail: IODpzu@pzu.pl PZU CO SA administrator: PZU CO SA, Rondo Ignacego Daszyńskiego 4, 00-843 Warszawa IOD: PZU CO SA, IOD, Rondo Ignacego Daszyńskiego 4, 00-843 Warszawa; e-mail: IODco@pzu.pl

Sheet dane
A1: firma | B1: adres | C1: miasto | D1: kod_pocztowy | E1: panstwo | F1: NIP | G1: strona_www | H1: KRS | I1: imie1 | J1: Nazwisko1 | K1: email1 | L1: Telefon1 | M1: Stanowisko1 | N1: imie2 | O1: Nazwisko2 | P1: email2 | Q1: Telefon2 | R1: Stanowisko2 | S1: rok_zalozenia | T1: pracownicy_ogolem | U1: wspolpraca_pzu | V1: przychod_LY | W1: przychod_2LY | X1: klauzule_antykorupcja | Y1: zaleganie_oplaty | Z1: upadlosc_likwidacja | AA1: prawomocne_skazanie | AB1: zakaz_zam_publicznych | AC1: pep | AD1: broker | AE1: sankcje | AF1: CSR
A2: =IF(LEN(Kwestionariusz!$E4)=0,"",Kwestionariusz!$E4) | B2: =IF(LEN(Kwestionariusz!$E5)=0,"",Kwestionariusz!$E5) | C2: =IF(LEN(Kwestionariusz!$E6)=0,"",Kwestionariusz!$E6) | D2: =IF(LEN(Kwestionariusz!$E7)=0,"",Kwestionariusz!$E7) | E2: =IF(LEN(Kwestionariusz!$E8)=0,"",Kwestionariusz!$E8) | F2: =IF(LEN(Kwestionariusz!$E9)=0,"",Kwestionariusz!$E9) | G2: =IF(LEN(Kwestionariusz!$E10)=0,"",Kwestionariusz!$E10) | H2: =IF(LEN(Kwestionariusz!$E11)=0,"",Kwestionariusz!$E11) | I2: =IF(LEN(Kwestionariusz!$E13)=0,"",Kwestionariusz!$E13) | J2: =IF(LEN(Kwestionariusz!$E14)=0,"",Kwestionariusz!$E14) | K2: =IF(LEN(Kwestionariusz!$E15)=0,"",Kwestionariusz!$E15) | L2: =IF(LEN(Kwestionariusz!$E16)=0,"",Kwestionariusz!$E16) | M2: =IF(LEN(Kwestionariusz!$E17)=0,"",Kwestionariusz!$E17) | N2: =IF(LEN(Kwestionariusz!$E19)=0,"",Kwestionariusz!$E19) | O2: =IF(LEN(Kwestionariusz!$E20)=0,"",Kwestionariusz!$E20) | P2: =IF(LEN(Kwestionariusz!$E21)=0,"",Kwestionariusz!$E21) | Q2: =IF(LEN(Kwestionariusz!$E22)=0,"",Kwestionariusz!$E22) | R2: =IF(LEN(Kwestionariusz!$E23)=0,"",Kwestionariusz!$E23) | S2: =IF(LEN(Kwestionariusz!$E25)=0,"",Kwestionariusz!$E25) | T2: =IF(LEN(Kwestionariusz!$E26)=0,"",Kwestionariusz!$E26) | U2: =IF(LEN(Kwestionariusz!$E27)=0,"",Kwestionariusz!$E27) | V2: =IF(LEN(Kwestionariusz!$E28)=0,"",Kwestionariusz!$E28) | W2: =IF(LEN(Kwestionariusz!$E29)=0,"",Kwestionariusz!$E29) | X2: =IF(LEN(Kwestionariusz!$E31)=0,"",Kwestionariusz!$E31) | Y2: =IF(LEN(Kwestionariusz!$E32)=0,"",Kwestionariusz!$E32) | Z2: =IF(LEN(Kwestionariusz!$E33)=0,"",Kwestionariusz!$E33) | AA2: =IF(LEN(Kwestionariusz!$E34)=0,"",Kwestionariusz!$E34) | AB2: =IF(LEN(Kwestionariusz!$E35)=0,"",Kwestionariusz!$E35) | AC2: =IF(LEN(Kwestionariusz!$E36)=0,"",Kwestionariusz!$E36) | AD2: =IF(LEN(Kwestionariusz!$E37)=0,"",Kwestionariusz!$E37) | AE2: =IF(LEN(Kwestionariusz!$E38)=0,"",Kwestionariusz!$E38) | AF2: =IF(LEN(Kwestionariusz!$E39)=0,"",Kwestionariusz!$E39)

Sheet Słownik
A1: Tak
A2: Nie
A3: Nie dotyczy
A5: Globalny
A6: Krajowy
A7: Regionalny
