Workbook

Sheet Questionnaire 
D1: Supplier Registration Questionnaire
A2: No | B2: Category | C2: Etykieta | D2: Question | E2: Responses | F2: 1 - mandatory 2 - optional
A3: Company information
A4: 1 | B4: Company and Contact | C4: Informacje o Firmie | D4: Company | F4: 1
A5: 2 | C5: Informacje o Firmie | D5: Adress | F5: 1
A6: 3 | C6: Informacje o Firmie | D6: City | F6: 1
A7: 4 | C7: Informacje o Firmie | D7: Zip Code | F7: 1
A8: 5 | C8: Informacje o Firmie | D8: Country | F8: 1
A9: 6 | C9: Informacje o Firmie | D9: Tax ID | F9: 1
A10: 7 | C10: Informacje o Firmie | D10: WWW | F10: 2
A11: 8 | C11: Informacje o Firmie | D11: DUNS no | F11: 2
A12: Contact
A13: 9 | B13: Contact | C13: Kontakt | D13: Name | F13: 1
A14: 10 | C14: Kontakt | D14: Surname | F14: 1
A15: 11 | C15: Kontakt | D15: e-mail | F15: 1
A16: 12 | C16: Kontakt | D16: Mobile | F16: 1
A17: 13 | C17: Kontakt | D17: Position | F17: 1
A18: Contact 2 - alternative
A19: 14 | B19: Contact | C19: Kontakt | D19: Name | F19: 1
A20: 15 | C20: Kontakt | D20: Surname | F20: 1
A21: 16 | C21: Kontakt | D21: e-mail | F21: 1
A22: 17 | C22: Kontakt | D22: Mobile | F22: 1
A23: 18 | C23: Kontakt | D23: Position | F23: 1
A24: Details
A25: 19 | B25: Details | C25: Informacje szczegółowe | D25: Year of establishment | F25: 2
A26: 20 | C26: Informacje szczegółowe | D26: Total number of employees | F26: 2
A27: 21 | C27: Informacje szczegółowe | D27: Does the company cooperate or has it cooperated with PZU Group? | F27: 1
A28: 22 | C28: Informacje szczegółowe | D28: Income - last year (2025) | F28: 1
A29: 23 | C29: Informacje szczegółowe | D29: Income - penultimate year (2024) | F29: 1
A30: Statements
A31: 24 | B31: Additional information | D31: The entity consents for anti-corruption clauses to be incorporated into potential contracts between the parties. | F31: 2
A32: 25 | D32: Is the entity in arrears with taxes, fees or social insurance contributions? | F32: 1
A33: 26 | D33: Is the entity in the course of liquidation or bankruptcy procedure, has the bankruptcy been declared, has a declaration on instigation of recovery procedure been submitted? Are there currently any prerequisites present to instigate the said procedures? | F33: 1
A34: 27 | D34: Have the representatives of the entity been convicted by a valid sentence for any offence connected with a contract award procedure, bribery, offence against trading, offence against credibility of documents or any other offence committed to obtain material benefits or have court proceedings been initiated for committing the above-mentioned crimes? | F34: 1
A35: 28 | D35: Based on the provisions on the liability of collective entities for acts prohibited under penalty, a prohibition to bid on a public contract was imposed on the entity. | F35: 1
A36: 29 | D36: Representatives of the entity or the actual beneficiary serve(s) or served a public function or have (has) organisation or equity relations to persons serving public functions. | F36: 1
A37: 30 | D37: The entity and its related parties perform brokerage activities with regard to insurance or reinsurance. Insurance Distribution Act of 23 March 2022 (Journal of Laws of 2022, item 905, as amended) | F37: 1
A38: 31 | D38: The entity is subject to sanctions and persons representing or having a power of attorney to represent the company are also subject to sanctions*? (*)Sanctions - known to the company, and applicable restrictions imposed by authorized bodies, in particular at the initiative of the European Union, the United Nations or other bodies of the international community, the United States of America or the United Kingdom, including: a) financial or economic restrictions in relation to specific states or citizens of these countries (embargo); b) restrictive measures against persons, entities, organized groups, regimes, governments and states (sanctions sensu stricto); | F38: 1
A39: 32 | D39: I have read and accept the Code of Conduct and Good ESG Practices of the Suppliers of the PZU Group (*). (*) https://www.pzu.pl/grupa-pzu/o-nas/kultura-compliance-pzu/kodeks-csr | F39: 1
A40: Procurement categories - please indicate the procurement categories in which you provide services
...

Sheet dane
A1: Firma | B1: Adres | C1: Miasto | D1: Kod pocztowy | E1: Państwo | F1: NIP | G1: Strona internetowa | H1: Numer KRS | I1: Imię1 | J1: Nazwisko1 | K1: E-mail1 | L1: Telefon1 | M1: Stanowisko1 | N1: Imię2 | O1: Nazwisko2 | P1: E-mail2 | Q1: Telefon2 | R1: Stanowisko2 | S1: Rok założenia | T1: pracownicy ogółem | U1: Współpraca z Grupą PZU ? | V1: Przychód (2021) | W1: Przychód (2020) | X1: klauzule antykorupcyjne | Y1: Zaleganie z przymusowymi opłatami | Z1: Likwidacja/upadłość | AA1: Prawomocne skazanie za przestępstwo | AB1: Zakaz ubiegania się o zamówienia publiczne | AC1: PEP | AD1: Broker | AE1: Sankcje | AF1: CSR
A2: ='Questionnaire '!$E4 -> 0 | B2: ='Questionnaire '!$E5 -> 0 | C2: ='Questionnaire '!$E6 -> 0 | D2: ='Questionnaire '!$E7 -> 0 | E2: ='Questionnaire '!$E8 -> 0 | F2: ='Questionnaire '!$E9 -> 0 | G2: ='Questionnaire '!$E10 -> 0 | H2: ='Questionnaire '!$E11 -> 0 | I2: ='Questionnaire '!$E13 -> 0 | J2: ='Questionnaire '!$E14 -> 0 | K2: ='Questionnaire '!$E15 -> 0 | L2: ='Questionnaire '!$E16 -> 0 | M2: ='Questionnaire '!$E17 -> 0 | N2: ='Questionnaire '!$E19 -> 0 | O2: ='Questionnaire '!$E20 -> 0 | P2: ='Questionnaire '!$E21 -> 0 | Q2: ='Questionnaire '!$E22 -> 0 | R2: ='Questionnaire '!$E23 -> 0 | S2: ='Questionnaire '!$E25 -> 0 | T2: ='Questionnaire '!$E26 -> 0 | U2: ='Questionnaire '!$E27 -> 0 | V2: ='Questionnaire '!$E28 -> 0 | W2: ='Questionnaire '!$E29 -> 0 | X2: ='Questionnaire '!$E31 -> 0 | Y2: ='Questionnaire '!$E32 -> 0 | Z2: ='Questionnaire '!$E33 -> 0 | AA2: ='Questionnaire '!$E34 -> 0 | AB2: ='Questionnaire '!$E35 -> 0 | AC2: ='Questionnaire '!$E36 -> 0 | AD2: ='Questionnaire '!$E37 -> 0 | AE2: ='Questionnaire '!$E38 -> 0 | AF2: ='Questionnaire '!$E39 -> 0

Sheet Słownik
A1: Yes
A2: No
A3: Not applicable
A5: Global
A6: National
A7: Regional
